BEGIN:VCALENDAR
VERSION:2.0
PRODID:-//North American University - ECPv6.15.20//NONSGML v1.0//EN
CALSCALE:GREGORIAN
METHOD:PUBLISH
X-WR-CALNAME:North American University
X-ORIGINAL-URL:https://staging.na.edu
X-WR-CALDESC:Events for North American University
REFRESH-INTERVAL;VALUE=DURATION:PT1H
X-Robots-Tag:noindex
X-PUBLISHED-TTL:PT1H
BEGIN:VTIMEZONE
TZID:America/Chicago
BEGIN:DAYLIGHT
TZOFFSETFROM:-0600
TZOFFSETTO:-0500
TZNAME:CDT
DTSTART:19690427T080000
END:DAYLIGHT
BEGIN:STANDARD
TZOFFSETFROM:-0500
TZOFFSETTO:-0600
TZNAME:CST
DTSTART:19691026T070000
END:STANDARD
BEGIN:DAYLIGHT
TZOFFSETFROM:-0600
TZOFFSETTO:-0500
TZNAME:CDT
DTSTART:19700426T080000
END:DAYLIGHT
BEGIN:STANDARD
TZOFFSETFROM:-0500
TZOFFSETTO:-0600
TZNAME:CST
DTSTART:19701025T070000
END:STANDARD
BEGIN:DAYLIGHT
TZOFFSETFROM:-0600
TZOFFSETTO:-0500
TZNAME:CDT
DTSTART:19710425T080000
END:DAYLIGHT
BEGIN:STANDARD
TZOFFSETFROM:-0500
TZOFFSETTO:-0600
TZNAME:CST
DTSTART:19711031T070000
END:STANDARD
END:VTIMEZONE
BEGIN:VEVENT
DTSTART;TZID=America/Chicago:20260425T093817
DTEND;TZID=America/Chicago:20260425T093817
DTSTAMP:20260425T093817
CREATED:20251111T171117Z
LAST-MODIFIED:20251111T171117Z
UID:20421-0-0@staging.na.edu
SUMMARY:NAU Stallions Women’s Cross-Country at USCAA Championship – 2025
DESCRIPTION:Support North American University Women’s Cross-Country team at the USCAA Cross Country Championship on November 15\, 2025\, in Stafford\, TX. Join the NAU Stallions for this prestigious 2025-26 season national event.
URL:https://staging.na.edu/event/nau-stallions-womens-cross-country-at-uscaa-championship-2025/
CATEGORIES:Sports
ATTACH;FMTTYPE=image/webp:https://staging.na.edu/wp-content/uploads/2025/11/crop-4-IGqhL7.webp
END:VEVENT
BEGIN:VEVENT
DTSTART;TZID=America/Chicago:20260425T093817
DTEND;TZID=America/Chicago:20260425T093817
DTSTAMP:20260425T093817
CREATED:20251111T171116Z
LAST-MODIFIED:20251111T171116Z
UID:20420-0-0@staging.na.edu
SUMMARY:NAU Stallions Women’s Cross-Country at Red River Athletic Conference Meet – 2025
DESCRIPTION:Join North American University Women’s Cross-Country team at the Red River Athletic Conference Meet on November 1\, 2025\, in Stafford\, TX. Cheer for the NAU Stallions in this key 2025-26 season championship event.
URL:https://staging.na.edu/event/nau-stallions-womens-cross-country-at-red-river-athletic-conference-meet-2025/
CATEGORIES:Sports
ATTACH;FMTTYPE=image/webp:https://staging.na.edu/wp-content/uploads/2025/11/crop-2-iEylba.webp
END:VEVENT
BEGIN:VEVENT
DTSTART;TZID=America/Chicago:20260425T093817
DTEND;TZID=America/Chicago:20260425T093817
DTSTAMP:20260425T093817
CREATED:20251111T171114Z
LAST-MODIFIED:20251111T171114Z
UID:20418-0-0@staging.na.edu
SUMMARY:NAU Stallions Women’s Cross-Country at Texas A&M – 2025
DESCRIPTION:Watch North American University Women’s Cross-Country team compete at Texas A&M University on October 17\, 2025\, at 400 Bizzell St\, College Station\, TX. Support the NAU Stallions in this 2025-26 season meet.
URL:https://staging.na.edu/event/nau-stallions-womens-cross-country-at-texas-am-2025/
CATEGORIES:Sports
ATTACH;FMTTYPE=image/webp:https://staging.na.edu/wp-content/uploads/2025/11/crop-1-i29ey2.webp
END:VEVENT
BEGIN:VEVENT
DTSTART;TZID=America/Chicago:20260425T093817
DTEND;TZID=America/Chicago:20260425T093817
DTSTAMP:20260425T093817
CREATED:20251111T171112Z
LAST-MODIFIED:20251111T171112Z
UID:20416-0-0@staging.na.edu
SUMMARY:NAU Stallions Women’s Cross-Country at Dallas Baptist – 2025
DESCRIPTION:Follow North American University Women’s Cross-Country team as they compete at Dallas Baptist University on October 11\, 2025\, in Dallas\, TX. Cheer for the NAU Stallions in this 2025-26 season meet.
URL:https://staging.na.edu/event/nau-stallions-womens-cross-country-at-dallas-baptist-2025/
CATEGORIES:Sports
ATTACH;FMTTYPE=image/webp:https://staging.na.edu/wp-content/uploads/2025/11/crop-5-HOuJnF.webp
END:VEVENT
BEGIN:VEVENT
DTSTART;TZID=America/Chicago:20260425T093817
DTEND;TZID=America/Chicago:20260425T093817
DTSTAMP:20260425T093817
CREATED:20251111T170748Z
LAST-MODIFIED:20251111T171030Z
UID:20400-0-0@staging.na.edu
SUMMARY:NAU Stallions Men’s Cross-Country at USCAA Championship – 2025
DESCRIPTION:Support North American University Men’s Cross-Country team at the USCAA Cross Country Championship on November 15\, 2025\, in Stafford\, TX. Join the NAU Stallions for this prestigious 2025-26 season national event.
URL:https://staging.na.edu/event/nau-stallions-mens-cross-country-at-uscaa-championship-2025/
CATEGORIES:Sports
ATTACH;FMTTYPE=image/webp:https://staging.na.edu/wp-content/uploads/2025/11/crop-3-Wl52lr.webp
END:VEVENT
BEGIN:VEVENT
DTSTART;TZID=America/Chicago:20260425T093817
DTEND;TZID=America/Chicago:20260425T093817
DTSTAMP:20260425T093817
CREATED:20251111T170747Z
LAST-MODIFIED:20251111T171030Z
UID:20399-0-0@staging.na.edu
SUMMARY:NAU Stallions Men’s Cross-Country at Red River Athletic Conference Meet – 2025
DESCRIPTION:Join North American University Men’s Cross-Country team at the Red River Athletic Conference Meet on November 1\, 2025\, in Stafford\, TX. Cheer for the NAU Stallions in this key 2025-26 season championship event.
URL:https://staging.na.edu/event/nau-stallions-mens-cross-country-at-red-river-athletic-conference-meet-2025/
CATEGORIES:Sports
ATTACH;FMTTYPE=image/webp:https://staging.na.edu/wp-content/uploads/2025/11/crop-2-iEylba.webp
END:VEVENT
BEGIN:VEVENT
DTSTART;TZID=America/Chicago:20260425T093817
DTEND;TZID=America/Chicago:20260425T093817
DTSTAMP:20260425T093817
CREATED:20251111T170744Z
LAST-MODIFIED:20251111T171028Z
UID:20397-0-0@staging.na.edu
SUMMARY:NAU Stallions Men’s Cross-Country at Texas A&M – 2025
DESCRIPTION:Watch North American University Men’s Cross-Country team compete at Texas A&M University on October 17\, 2025\, at 400 Bizzell St\, College Station\, TX. Support the NAU Stallions in this 2025-26 season meet.
URL:https://staging.na.edu/event/nau-stallions-mens-cross-country-at-texas-am-2025/
CATEGORIES:Sports
ATTACH;FMTTYPE=image/webp:https://staging.na.edu/wp-content/uploads/2025/11/crop-3-Wl52lr.webp
END:VEVENT
BEGIN:VEVENT
DTSTART;TZID=America/Chicago:20260425T093817
DTEND;TZID=America/Chicago:20260425T093817
DTSTAMP:20260425T093817
CREATED:20251111T170743Z
LAST-MODIFIED:20251111T171027Z
UID:20395-0-0@staging.na.edu
SUMMARY:NAU Stallions Men’s Cross-Country at Dallas Baptist – 2025
DESCRIPTION:Follow North American University Men’s Cross-Country team as they compete at Dallas Baptist University on October 11\, 2025\, in Dallas\, TX. Cheer for the NAU Stallions in this 2025-26 season meet.
URL:https://staging.na.edu/event/nau-stallions-mens-cross-country-at-dallas-baptist-2025/
CATEGORIES:Sports
ATTACH;FMTTYPE=image/webp:https://staging.na.edu/wp-content/uploads/2025/11/crop-2-iEylba.webp
END:VEVENT
END:VCALENDAR