BEGIN:VCALENDAR
VERSION:2.0
PRODID:-//North American University - ECPv6.15.20//NONSGML v1.0//EN
CALSCALE:GREGORIAN
METHOD:PUBLISH
X-ORIGINAL-URL:https://staging.na.edu
X-WR-CALDESC:Events for North American University
REFRESH-INTERVAL;VALUE=DURATION:PT1H
X-Robots-Tag:noindex
X-PUBLISHED-TTL:PT1H
BEGIN:VTIMEZONE
TZID:America/Chicago
BEGIN:DAYLIGHT
TZOFFSETFROM:-0600
TZOFFSETTO:-0500
TZNAME:CDT
DTSTART:20240310T080000
END:DAYLIGHT
BEGIN:STANDARD
TZOFFSETFROM:-0500
TZOFFSETTO:-0600
TZNAME:CST
DTSTART:20241103T070000
END:STANDARD
BEGIN:DAYLIGHT
TZOFFSETFROM:-0600
TZOFFSETTO:-0500
TZNAME:CDT
DTSTART:20250309T080000
END:DAYLIGHT
BEGIN:STANDARD
TZOFFSETFROM:-0500
TZOFFSETTO:-0600
TZNAME:CST
DTSTART:20251102T070000
END:STANDARD
BEGIN:DAYLIGHT
TZOFFSETFROM:-0600
TZOFFSETTO:-0500
TZNAME:CDT
DTSTART:20260308T080000
END:DAYLIGHT
BEGIN:STANDARD
TZOFFSETFROM:-0500
TZOFFSETTO:-0600
TZNAME:CST
DTSTART:20261101T070000
END:STANDARD
BEGIN:DAYLIGHT
TZOFFSETFROM:-0600
TZOFFSETTO:-0500
TZNAME:CDT
DTSTART:20270314T080000
END:DAYLIGHT
BEGIN:STANDARD
TZOFFSETFROM:-0500
TZOFFSETTO:-0600
TZNAME:CST
DTSTART:20271107T070000
END:STANDARD
END:VTIMEZONE
BEGIN:VEVENT
DTSTART;VALUE=DATE:20260309
DTEND;VALUE=DATE:20260314
DTSTAMP:20260424T103555
CREATED:20251111T155510Z
LAST-MODIFIED:20251111T165538Z
UID:20166-1773014400-1773446399@staging.na.edu
SUMMARY:Spring Break
DESCRIPTION:Notification: Spring Break March 9-13; no classes.
URL:https://staging.na.edu/event/spring-break-2/
CATEGORIES:UMCR
ATTACH;FMTTYPE=image/jpeg:https://staging.na.edu/wp-content/uploads/2021/06/NAU-AIC-Campus.jpg
END:VEVENT
BEGIN:VEVENT
DTSTART;VALUE=DATE:20260201
DTEND;VALUE=DATE:20260301
DTSTAMP:20260424T103555
CREATED:20251111T155458Z
LAST-MODIFIED:20251111T165525Z
UID:20164-1769904000-1772323199@staging.na.edu
SUMMARY:Black History Month
DESCRIPTION:Black History Month; events and educational posts throughout February.
URL:https://staging.na.edu/event/black-history-month-2/
CATEGORIES:UMCR
ATTACH;FMTTYPE=image/jpeg:https://staging.na.edu/wp-content/uploads/2021/06/NAU-AIC-Campus.jpg
END:VEVENT
BEGIN:VEVENT
DTSTART;VALUE=DATE:20260119
DTEND;VALUE=DATE:20260120
DTSTAMP:20260424T103555
CREATED:20251111T155457Z
LAST-MODIFIED:20251111T165524Z
UID:20163-1768780800-1768867199@staging.na.edu
SUMMARY:Martin Luther King Jr. Day
DESCRIPTION:Martin Luther King Jr. Day; no classes\, community service.
URL:https://staging.na.edu/event/martin-luther-king-jr-day-2/
CATEGORIES:UMCR
ATTACH;FMTTYPE=image/jpeg:https://staging.na.edu/wp-content/uploads/2021/06/NAU-AIC-Campus.jpg
END:VEVENT
BEGIN:VEVENT
DTSTART;VALUE=DATE:20260114
DTEND;VALUE=DATE:20260115
DTSTAMP:20260424T103555
CREATED:20251111T155456Z
LAST-MODIFIED:20251111T165523Z
UID:20162-1768348800-1768435199@staging.na.edu
SUMMARY:First Day of Classes
DESCRIPTION:Notification: First day of spring classes.
URL:https://staging.na.edu/event/first-day-of-classes-2/
CATEGORIES:UMCR
ATTACH;FMTTYPE=image/jpeg:https://staging.na.edu/wp-content/uploads/2021/06/NAU-AIC-Campus.jpg
END:VEVENT
BEGIN:VEVENT
DTSTART;VALUE=DATE:20260101
DTEND;VALUE=DATE:20260102
DTSTAMP:20260424T103555
CREATED:20251111T155443Z
LAST-MODIFIED:20251111T165512Z
UID:20160-1767225600-1767311999@staging.na.edu
SUMMARY:New Year’s Day
DESCRIPTION:New Year’s Day; campus closed for holiday.
URL:https://staging.na.edu/event/new-years-day-2/
CATEGORIES:UMCR
ATTACH;FMTTYPE=image/jpeg:https://staging.na.edu/wp-content/uploads/2021/06/NAU-AIC-Campus.jpg
END:VEVENT
BEGIN:VEVENT
DTSTART;VALUE=DATE:20251111
DTEND;VALUE=DATE:20251112
DTSTAMP:20260424T103555
CREATED:20251111T155426Z
LAST-MODIFIED:20251111T165453Z
UID:20152-1762819200-1762905599@staging.na.edu
SUMMARY:Veterans Day
DESCRIPTION:Veterans Day; tribute and campus closure.
URL:https://staging.na.edu/event/veterans-day-2/
CATEGORIES:UMCR
ATTACH;FMTTYPE=image/jpeg:https://staging.na.edu/wp-content/uploads/2021/06/NAU-AIC-Campus.jpg
END:VEVENT
BEGIN:VEVENT
DTSTART;VALUE=DATE:20251101
DTEND;VALUE=DATE:20251102
DTSTAMP:20260424T103555
CREATED:20251111T155411Z
LAST-MODIFIED:20251111T165438Z
UID:20147-1761955200-1762041599@staging.na.edu
SUMMARY:First-Gen College Celebration Day
DESCRIPTION:First-Gen College Celebration Day; recognition event.
URL:https://staging.na.edu/event/first-gen-college-celebration-day-2/
CATEGORIES:UMCR
ATTACH;FMTTYPE=image/jpeg:https://staging.na.edu/wp-content/uploads/2021/06/NAU-AIC-Campus.jpg
END:VEVENT
BEGIN:VEVENT
DTSTART;VALUE=DATE:20251010
DTEND;VALUE=DATE:20251011
DTSTAMP:20260424T103555
CREATED:20251111T155312Z
LAST-MODIFIED:20251111T165341Z
UID:20129-1760054400-1760140799@staging.na.edu
SUMMARY:World Mental Health Day
DESCRIPTION:World Mental Health Day; resources and support post.
URL:https://staging.na.edu/event/world-mental-health-day-2/
CATEGORIES:UMCR
ATTACH;FMTTYPE=image/jpeg:https://staging.na.edu/wp-content/uploads/2021/06/NAU-AIC-Campus.jpg
END:VEVENT
BEGIN:VEVENT
DTSTART;VALUE=DATE:20251001
DTEND;VALUE=DATE:20251002
DTSTAMP:20260424T103555
CREATED:20251111T155257Z
LAST-MODIFIED:20251111T165324Z
UID:20123-1759276800-1759363199@staging.na.edu
SUMMARY:International Coffee Day
DESCRIPTION:International Coffee Day; coffee tasting post.
URL:https://staging.na.edu/event/international-coffee-day-2/
CATEGORIES:UMCR
ATTACH;FMTTYPE=image/jpeg:https://staging.na.edu/wp-content/uploads/2021/06/NAU-AIC-Campus.jpg
END:VEVENT
BEGIN:VEVENT
DTSTART;VALUE=DATE:20250921
DTEND;VALUE=DATE:20250922
DTSTAMP:20260424T103555
CREATED:20251111T155243Z
LAST-MODIFIED:20251111T165309Z
UID:20120-1758412800-1758499199@staging.na.edu
SUMMARY:International Day of Peace
DESCRIPTION:International Day of Peace; global awareness post.
URL:https://staging.na.edu/event/international-day-of-peace-2/
CATEGORIES:UMCR
ATTACH;FMTTYPE=image/jpeg:https://staging.na.edu/wp-content/uploads/2021/06/NAU-AIC-Campus.jpg
END:VEVENT
BEGIN:VEVENT
DTSTART;TZID=America/Chicago:20250915T130000
DTEND;TZID=America/Chicago:20250915T150000
DTSTAMP:20260424T103555
CREATED:20251111T155241Z
LAST-MODIFIED:20251111T165308Z
UID:20117-1757941200-1757948400@staging.na.edu
SUMMARY:Coffee Shop Opening Ceremony
DESCRIPTION:Grand opening ceremony for the campus coffee shop with free samples.
URL:https://staging.na.edu/event/coffee-shop-opening-ceremony-2/
CATEGORIES:UMCR
ATTACH;FMTTYPE=image/jpeg:https://staging.na.edu/wp-content/uploads/2021/06/NAU-AIC-Campus.jpg
END:VEVENT
BEGIN:VEVENT
DTSTART;VALUE=DATE:20250915
DTEND;VALUE=DATE:20251016
DTSTAMP:20260424T103555
CREATED:20251111T155240Z
LAST-MODIFIED:20251111T165307Z
UID:20116-1757894400-1760572799@staging.na.edu
SUMMARY:Hispanic Heritage Month
DESCRIPTION:Hispanic Heritage Month; series of cultural events and posts.
URL:https://staging.na.edu/event/hispanic-heritage-month-2/
CATEGORIES:UMCR
ATTACH;FMTTYPE=image/jpeg:https://staging.na.edu/wp-content/uploads/2021/06/NAU-AIC-Campus.jpg
END:VEVENT
BEGIN:VEVENT
DTSTART;VALUE=DATE:20250908
DTEND;VALUE=DATE:20250909
DTSTAMP:20260424T103555
CREATED:20251111T155236Z
LAST-MODIFIED:20251111T165303Z
UID:20113-1757289600-1757375999@staging.na.edu
SUMMARY:International Literacy Day
DESCRIPTION:International Literacy Day awareness post.
URL:https://staging.na.edu/event/international-literacy-day-2/
CATEGORIES:UMCR
ATTACH;FMTTYPE=image/jpeg:https://staging.na.edu/wp-content/uploads/2021/06/NAU-AIC-Campus.jpg
END:VEVENT
BEGIN:VEVENT
DTSTART;VALUE=DATE:20250901
DTEND;VALUE=DATE:20250902
DTSTAMP:20260424T103555
CREATED:20251111T155235Z
LAST-MODIFIED:20251111T165302Z
UID:20112-1756684800-1756771199@staging.na.edu
SUMMARY:Labor Day
DESCRIPTION:Labor Day holiday observance; campus closed.
URL:https://staging.na.edu/event/labor-day-2/
CATEGORIES:UMCR
ATTACH;FMTTYPE=image/jpeg:https://staging.na.edu/wp-content/uploads/2021/06/NAU-AIC-Campus.jpg
END:VEVENT
END:VCALENDAR