BEGIN:VCALENDAR
VERSION:2.0
PRODID:-//North American University - ECPv6.15.20//NONSGML v1.0//EN
CALSCALE:GREGORIAN
METHOD:PUBLISH
X-ORIGINAL-URL:https://staging.na.edu
X-WR-CALDESC:Events for North American University
REFRESH-INTERVAL;VALUE=DURATION:PT1H
X-Robots-Tag:noindex
X-PUBLISHED-TTL:PT1H
BEGIN:VTIMEZONE
TZID:America/Chicago
BEGIN:DAYLIGHT
TZOFFSETFROM:-0600
TZOFFSETTO:-0500
TZNAME:CDT
DTSTART:20240310T080000
END:DAYLIGHT
BEGIN:STANDARD
TZOFFSETFROM:-0500
TZOFFSETTO:-0600
TZNAME:CST
DTSTART:20241103T070000
END:STANDARD
BEGIN:DAYLIGHT
TZOFFSETFROM:-0600
TZOFFSETTO:-0500
TZNAME:CDT
DTSTART:20250309T080000
END:DAYLIGHT
BEGIN:STANDARD
TZOFFSETFROM:-0500
TZOFFSETTO:-0600
TZNAME:CST
DTSTART:20251102T070000
END:STANDARD
BEGIN:DAYLIGHT
TZOFFSETFROM:-0600
TZOFFSETTO:-0500
TZNAME:CDT
DTSTART:20260308T080000
END:DAYLIGHT
BEGIN:STANDARD
TZOFFSETFROM:-0500
TZOFFSETTO:-0600
TZNAME:CST
DTSTART:20261101T070000
END:STANDARD
END:VTIMEZONE
BEGIN:VEVENT
DTSTART;TZID=America/Chicago:20251022T113000
DTEND;TZID=America/Chicago:20251022T123000
DTSTAMP:20260424T154226
CREATED:20251111T155328Z
LAST-MODIFIED:20251111T165355Z
UID:20135-1761132600-1761136200@staging.na.edu
SUMMARY:WIB Seminar Series
DESCRIPTION:WIB Seminar Series: Networking and professional development.
URL:https://staging.na.edu/event/wib-seminar-series-3/
CATEGORIES:Studentlife
ATTACH;FMTTYPE=image/jpeg:https://staging.na.edu/wp-content/uploads/2024/05/aic25-2.jpg
END:VEVENT
BEGIN:VEVENT
DTSTART;TZID=America/Chicago:20251021T153000
DTEND;TZID=America/Chicago:20251021T170000
DTSTAMP:20260424T154226
CREATED:20251111T155327Z
LAST-MODIFIED:20251111T165355Z
UID:20134-1761060600-1761066000@staging.na.edu
SUMMARY:Nextrepreneur Master Class
DESCRIPTION:Nextrepreneur Master Class: Startup strategies and pitching.
URL:https://staging.na.edu/event/nextrepreneur-master-class-2/
CATEGORIES:Studentlife
ATTACH;FMTTYPE=image/jpeg:https://staging.na.edu/wp-content/uploads/2021/06/NAU-AIC-Campus.jpg
END:VEVENT
BEGIN:VEVENT
DTSTART;TZID=America/Chicago:20251021T153000
DTEND;TZID=America/Chicago:20251021T170000
DTSTAMP:20260424T154226
CREATED:20251111T155326Z
LAST-MODIFIED:20251111T165354Z
UID:20133-1761060600-1761066000@staging.na.edu
SUMMARY:Passport to Africa
DESCRIPTION:Passport to Africa: Talks\, food\, and cultural showcase.
URL:https://staging.na.edu/event/passport-to-africa-2/
CATEGORIES:Studentlife
ATTACH;FMTTYPE=image/jpeg:https://staging.na.edu/wp-content/uploads/2024/05/aic25-2.jpg
END:VEVENT
BEGIN:VEVENT
DTSTART;TZID=America/Chicago:20251016T190000
DTEND;TZID=America/Chicago:20251016T220000
DTSTAMP:20260424T154226
CREATED:20251111T155325Z
LAST-MODIFIED:20251111T165353Z
UID:20131-1760641200-1760652000@staging.na.edu
SUMMARY:Hispanic Heritage Month
DESCRIPTION:Closing event for Hispanic Heritage Month with performances.
URL:https://staging.na.edu/event/hispanic-heritage-month-3/
CATEGORIES:Studentlife
ATTACH;FMTTYPE=image/jpeg:https://staging.na.edu/wp-content/uploads/2024/05/aic25-2.jpg
END:VEVENT
BEGIN:VEVENT
DTSTART;TZID=America/Chicago:20251001T140000
DTEND;TZID=America/Chicago:20251001T160000
DTSTAMP:20260424T154226
CREATED:20251111T155256Z
LAST-MODIFIED:20251111T165323Z
UID:20122-1759327200-1759334400@staging.na.edu
SUMMARY:Welcome BBQ Fall 2025
DESCRIPTION:Fall welcome BBQ with food and networking.
URL:https://staging.na.edu/event/welcome-bbq-fall-2025-2/
CATEGORIES:Studentlife
ATTACH;FMTTYPE=image/jpeg:https://staging.na.edu/wp-content/uploads/2021/06/NAU-AIC-Campus.jpg
END:VEVENT
BEGIN:VEVENT
DTSTART;TZID=America/Chicago:20250925T143000
DTEND;TZID=America/Chicago:20250925T153000
DTSTAMP:20260424T154226
CREATED:20251111T155255Z
LAST-MODIFIED:20251111T165323Z
UID:20121-1758810600-1758814200@staging.na.edu
SUMMARY:WIB Seminar Series
DESCRIPTION:Women in Business seminar on leadership and careers.
URL:https://staging.na.edu/event/wib-seminar-series-2/
CATEGORIES:Studentlife
ATTACH;FMTTYPE=image/jpeg:https://staging.na.edu/wp-content/uploads/2024/05/aic25-2.jpg
END:VEVENT
BEGIN:VEVENT
DTSTART;TZID=America/Chicago:20250918T140000
DTEND;TZID=America/Chicago:20250918T150000
DTSTAMP:20260424T154226
CREATED:20251111T155242Z
LAST-MODIFIED:20251111T165309Z
UID:20119-1758204000-1758207600@staging.na.edu
SUMMARY:Admin-Student Meeting
DESCRIPTION:Open discussion meeting for admin-student feedback.
URL:https://staging.na.edu/event/admin-student-meeting-2/
CATEGORIES:Studentlife
ATTACH;FMTTYPE=image/jpeg:https://staging.na.edu/wp-content/uploads/2024/05/aic25-2.jpg
END:VEVENT
BEGIN:VEVENT
DTSTART;TZID=America/Chicago:20250909T140000
DTEND;TZID=America/Chicago:20250909T150000
DTSTAMP:20260424T154226
CREATED:20251111T155237Z
LAST-MODIFIED:20251111T165304Z
UID:20114-1757426400-1757430000@staging.na.edu
SUMMARY:Club Opening Workshop
DESCRIPTION:Club opening workshop to help students start new clubs.
URL:https://staging.na.edu/event/club-opening-workshop-2/
CATEGORIES:Studentlife
ATTACH;FMTTYPE=image/jpeg:https://staging.na.edu/wp-content/uploads/2021/06/NAU-AIC-Campus.jpg
END:VEVENT
BEGIN:VEVENT
DTSTART;TZID=America/Chicago:20250815T093000
DTEND;TZID=America/Chicago:20250815T110000
DTSTAMP:20260424T154226
CREATED:20251111T155234Z
LAST-MODIFIED:20251111T165302Z
UID:20111-1755250200-1755255600@staging.na.edu
SUMMARY:Orientation
DESCRIPTION:New student orientation session to welcome incoming students.
URL:https://staging.na.edu/event/orientation-2/
CATEGORIES:Studentlife
ATTACH;FMTTYPE=image/jpeg:https://staging.na.edu/wp-content/uploads/2024/05/aic25-2.jpg
END:VEVENT
END:VCALENDAR